BEGIN:VCALENDAR
VERSION:2.0
PRODID:-//The Santa Fe Knights of Columbus - ECPv6.15.20//NONSGML v1.0//EN
CALSCALE:GREGORIAN
METHOD:PUBLISH
X-WR-CALNAME:The Santa Fe Knights of Columbus
X-ORIGINAL-URL:https://santafeknights.org
X-WR-CALDESC:Events for The Santa Fe Knights of Columbus
REFRESH-INTERVAL;VALUE=DURATION:PT1H
X-Robots-Tag:noindex
X-PUBLISHED-TTL:PT1H
BEGIN:VTIMEZONE
TZID:America/Denver
BEGIN:DAYLIGHT
TZOFFSETFROM:-0700
TZOFFSETTO:-0600
TZNAME:MDT
DTSTART:20230312T090000
END:DAYLIGHT
BEGIN:STANDARD
TZOFFSETFROM:-0600
TZOFFSETTO:-0700
TZNAME:MST
DTSTART:20231105T080000
END:STANDARD
BEGIN:DAYLIGHT
TZOFFSETFROM:-0700
TZOFFSETTO:-0600
TZNAME:MDT
DTSTART:20240310T090000
END:DAYLIGHT
BEGIN:STANDARD
TZOFFSETFROM:-0600
TZOFFSETTO:-0700
TZNAME:MST
DTSTART:20241103T080000
END:STANDARD
BEGIN:DAYLIGHT
TZOFFSETFROM:-0700
TZOFFSETTO:-0600
TZNAME:MDT
DTSTART:20250309T090000
END:DAYLIGHT
BEGIN:STANDARD
TZOFFSETFROM:-0600
TZOFFSETTO:-0700
TZNAME:MST
DTSTART:20251102T080000
END:STANDARD
END:VTIMEZONE
BEGIN:VEVENT
DTSTART;TZID=America/Denver:20240503T090000
DTEND;TZID=America/Denver:20240504T090000
DTSTAMP:20260425T082648
CREATED:20240503T165045Z
LAST-MODIFIED:20240503T171436Z
UID:1484-1714726800-1714813200@santafeknights.org
SUMMARY:Exposition/Adoration of Blessed Sacrament at SMDLP
DESCRIPTION:Exposition/Adoration of Blessed Sacrament\, 9:00AM
URL:https://santafeknights.org/event/exposition-adoration-of-blessed-sacrament-at-smdlp/
LOCATION:Santa Maria de la Paz\, 11 College Ave.\, Santa Fe\, NM\, 87508\, United States
CATEGORIES:Council-wide Event,Nuestra Señora Del Rosario Council 10517
END:VEVENT
END:VCALENDAR