BEGIN:VCALENDAR
VERSION:2.0
PRODID:-//The Santa Fe Knights of Columbus - ECPv6.15.20//NONSGML v1.0//EN
CALSCALE:GREGORIAN
METHOD:PUBLISH
X-ORIGINAL-URL:https://santafeknights.org
X-WR-CALDESC:Events for The Santa Fe Knights of Columbus
REFRESH-INTERVAL;VALUE=DURATION:PT1H
X-Robots-Tag:noindex
X-PUBLISHED-TTL:PT1H
BEGIN:VTIMEZONE
TZID:America/Denver
BEGIN:DAYLIGHT
TZOFFSETFROM:-0700
TZOFFSETTO:-0600
TZNAME:MDT
DTSTART:20240310T090000
END:DAYLIGHT
BEGIN:STANDARD
TZOFFSETFROM:-0600
TZOFFSETTO:-0700
TZNAME:MST
DTSTART:20241103T080000
END:STANDARD
BEGIN:DAYLIGHT
TZOFFSETFROM:-0700
TZOFFSETTO:-0600
TZNAME:MDT
DTSTART:20250309T090000
END:DAYLIGHT
BEGIN:STANDARD
TZOFFSETFROM:-0600
TZOFFSETTO:-0700
TZNAME:MST
DTSTART:20251102T080000
END:STANDARD
BEGIN:DAYLIGHT
TZOFFSETFROM:-0700
TZOFFSETTO:-0600
TZNAME:MDT
DTSTART:20260308T090000
END:DAYLIGHT
BEGIN:STANDARD
TZOFFSETFROM:-0600
TZOFFSETTO:-0700
TZNAME:MST
DTSTART:20261101T080000
END:STANDARD
END:VTIMEZONE
BEGIN:VEVENT
DTSTART;TZID=America/Denver:20250613T083000
DTEND;TZID=America/Denver:20250613T220000
DTSTAMP:20260424T115753
CREATED:20250602T121837Z
LAST-MODIFIED:20250602T121837Z
UID:1838-1749803400-1749852000@santafeknights.org
SUMMARY:Norbert Torres Funeral
DESCRIPTION:June 13th Friday Norbert Torres Funeral at Saint Anne Catholic Church 511 Alicia Street\, Santa Fe NM at 9:00 AM. Report time is 8:30 AM for instructions. For more information\, please contact DD Johnnie L. Chavez 505-252-1247.
URL:https://santafeknights.org/event/norbert-torres-funeral/
LOCATION:Saint Anne’s Catholic Church\, 511 Alicia St.\, Santa Fe\, NM\, 87501\, United States
CATEGORIES:Santa Fe Assembly 685
ORGANIZER;CN="Michael Specht":MAILTO:nmkofcdd9@gmail.com
END:VEVENT
END:VCALENDAR