BEGIN:VCALENDAR
VERSION:2.0
PRODID:-//The Santa Fe Knights of Columbus - ECPv6.15.20//NONSGML v1.0//EN
CALSCALE:GREGORIAN
METHOD:PUBLISH
X-ORIGINAL-URL:https://santafeknights.org
X-WR-CALDESC:Events for The Santa Fe Knights of Columbus
REFRESH-INTERVAL;VALUE=DURATION:PT1H
X-Robots-Tag:noindex
X-PUBLISHED-TTL:PT1H
BEGIN:VTIMEZONE
TZID:America/Denver
BEGIN:DAYLIGHT
TZOFFSETFROM:-0700
TZOFFSETTO:-0600
TZNAME:MDT
DTSTART:20230312T090000
END:DAYLIGHT
BEGIN:STANDARD
TZOFFSETFROM:-0600
TZOFFSETTO:-0700
TZNAME:MST
DTSTART:20231105T080000
END:STANDARD
BEGIN:DAYLIGHT
TZOFFSETFROM:-0700
TZOFFSETTO:-0600
TZNAME:MDT
DTSTART:20240310T090000
END:DAYLIGHT
BEGIN:STANDARD
TZOFFSETFROM:-0600
TZOFFSETTO:-0700
TZNAME:MST
DTSTART:20241103T080000
END:STANDARD
BEGIN:DAYLIGHT
TZOFFSETFROM:-0700
TZOFFSETTO:-0600
TZNAME:MDT
DTSTART:20250309T090000
END:DAYLIGHT
BEGIN:STANDARD
TZOFFSETFROM:-0600
TZOFFSETTO:-0700
TZNAME:MST
DTSTART:20251102T080000
END:STANDARD
END:VTIMEZONE
BEGIN:VEVENT
DTSTART;TZID=America/Denver:20241211T073000
DTEND;TZID=America/Denver:20241211T090000
DTSTAMP:20260424T213356
CREATED:20241123T044823Z
LAST-MODIFIED:20241123T162458Z
UID:1708-1733902200-1733907600@santafeknights.org
SUMMARY:Wreaths Across America
DESCRIPTION:The Patriotic Degree of the Knights of Columbus has volunteered to assist in the “Wreaths Across America” \n7:30 AM at the La Bajada Rest Area\, we will join The National Wreaths Across America escorted procession to the National Cemetery via 599 to St Francis Drive.
URL:https://santafeknights.org/event/wreaths-across-america/
LOCATION:NM
CATEGORIES:Santa Fe Assembly 685
ORGANIZER;CN="Santa Fe Assembly 685":MAILTO:assembly685@gmail.com
END:VEVENT
BEGIN:VEVENT
DTSTART;TZID=America/Denver:20241213T100000
DTEND;TZID=America/Denver:20241213T120000
DTSTAMP:20260424T213356
CREATED:20241123T045158Z
LAST-MODIFIED:20241123T160132Z
UID:1716-1734084000-1734091200@santafeknights.org
SUMMARY:Wreaths Across America
DESCRIPTION:The Patriotic Degree of the Knights of Columbus has volunteered to assist in the “Wreaths Across America” \n10 AM Load trailers to distribute wreaths to staging areas
URL:https://santafeknights.org/event/wreaths-across-america-2/
LOCATION:Santa Fe National Cemetery\, 501 N Guadalupe St\, Santa Fe\, NM\, 87501\, United States
CATEGORIES:Santa Fe Assembly 685
ORGANIZER;CN="Santa Fe Assembly 685":MAILTO:assembly685@gmail.com
END:VEVENT
BEGIN:VEVENT
DTSTART;TZID=America/Denver:20241214T100000
DTEND;TZID=America/Denver:20241214T120000
DTSTAMP:20260424T213356
CREATED:20241123T045439Z
LAST-MODIFIED:20241123T050607Z
UID:1720-1734170400-1734177600@santafeknights.org
SUMMARY:Wreaths Across America
DESCRIPTION:The Patriotic Degree of the Knights of Columbus has volunteered to assist in the “Wreaths Across America” \n10 AM Ceremony at National Cemetery followed by laying down wreaths
URL:https://santafeknights.org/event/wreaths-across-america-3/
LOCATION:Santa Fe National Cemetery\, 501 N Guadalupe St\, Santa Fe\, NM\, 87501\, United States
CATEGORIES:Santa Fe Assembly 685
ORGANIZER;CN="Santa Fe Assembly 685":MAILTO:assembly685@gmail.com
END:VEVENT
END:VCALENDAR