BEGIN:VCALENDAR
VERSION:2.0
PRODID:-//The Santa Fe Knights of Columbus - ECPv6.15.20//NONSGML v1.0//EN
CALSCALE:GREGORIAN
METHOD:PUBLISH
X-WR-CALNAME:The Santa Fe Knights of Columbus
X-ORIGINAL-URL:https://santafeknights.org
X-WR-CALDESC:Events for The Santa Fe Knights of Columbus
REFRESH-INTERVAL;VALUE=DURATION:PT1H
X-Robots-Tag:noindex
X-PUBLISHED-TTL:PT1H
BEGIN:VTIMEZONE
TZID:America/Denver
BEGIN:DAYLIGHT
TZOFFSETFROM:-0700
TZOFFSETTO:-0600
TZNAME:MDT
DTSTART:20240310T090000
END:DAYLIGHT
BEGIN:STANDARD
TZOFFSETFROM:-0600
TZOFFSETTO:-0700
TZNAME:MST
DTSTART:20241103T080000
END:STANDARD
BEGIN:DAYLIGHT
TZOFFSETFROM:-0700
TZOFFSETTO:-0600
TZNAME:MDT
DTSTART:20250309T090000
END:DAYLIGHT
BEGIN:STANDARD
TZOFFSETFROM:-0600
TZOFFSETTO:-0700
TZNAME:MST
DTSTART:20251102T080000
END:STANDARD
BEGIN:DAYLIGHT
TZOFFSETFROM:-0700
TZOFFSETTO:-0600
TZNAME:MDT
DTSTART:20260308T090000
END:DAYLIGHT
BEGIN:STANDARD
TZOFFSETFROM:-0600
TZOFFSETTO:-0700
TZNAME:MST
DTSTART:20261101T080000
END:STANDARD
END:VTIMEZONE
BEGIN:VEVENT
DTSTART;TZID=America/Denver:20250621T100000
DTEND;TZID=America/Denver:20250621T180000
DTSTAMP:20260424T101124
CREATED:20250602T131215Z
LAST-MODIFIED:20250602T131215Z
UID:1849-1750500000-1750528800@santafeknights.org
SUMMARY:St Anthony’s Parish Fiestas Parade
DESCRIPTION:June 21st Saturday St Anthony’s Parish Fiestas Parade 10 AM Mass at the church – 11 AM Fiesta – 12 Noon to 6 PM (Pecos High School Gymnasium)
URL:https://santafeknights.org/event/st-anthonys-parish-fiestas-parade/
LOCATION:San Antonio de Padua Church\, 11 St Anthonys Loop\, Pecos\, NM\, 87552\, United States
CATEGORIES:San Antonio de Pecos Council 10365,Santa Fe Assembly 685
END:VEVENT
END:VCALENDAR