BEGIN:VCALENDAR
VERSION:2.0
PRODID:-//The Santa Fe Knights of Columbus - ECPv6.15.20//NONSGML v1.0//EN
CALSCALE:GREGORIAN
METHOD:PUBLISH
X-WR-CALNAME:The Santa Fe Knights of Columbus
X-ORIGINAL-URL:https://santafeknights.org
X-WR-CALDESC:Events for The Santa Fe Knights of Columbus
REFRESH-INTERVAL;VALUE=DURATION:PT1H
X-Robots-Tag:noindex
X-PUBLISHED-TTL:PT1H
BEGIN:VTIMEZONE
TZID:America/Denver
BEGIN:DAYLIGHT
TZOFFSETFROM:-0700
TZOFFSETTO:-0600
TZNAME:MDT
DTSTART:20230312T090000
END:DAYLIGHT
BEGIN:STANDARD
TZOFFSETFROM:-0600
TZOFFSETTO:-0700
TZNAME:MST
DTSTART:20231105T080000
END:STANDARD
BEGIN:DAYLIGHT
TZOFFSETFROM:-0700
TZOFFSETTO:-0600
TZNAME:MDT
DTSTART:20240310T090000
END:DAYLIGHT
BEGIN:STANDARD
TZOFFSETFROM:-0600
TZOFFSETTO:-0700
TZNAME:MST
DTSTART:20241103T080000
END:STANDARD
BEGIN:DAYLIGHT
TZOFFSETFROM:-0700
TZOFFSETTO:-0600
TZNAME:MDT
DTSTART:20250309T090000
END:DAYLIGHT
BEGIN:STANDARD
TZOFFSETFROM:-0600
TZOFFSETTO:-0700
TZNAME:MST
DTSTART:20251102T080000
END:STANDARD
END:VTIMEZONE
BEGIN:VEVENT
DTSTART;TZID=America/Denver:20240906T100000
DTEND;TZID=America/Denver:20241012T120000
DTSTAMP:20260425T040726
CREATED:20240906T133005Z
LAST-MODIFIED:20240906T133005Z
UID:1588-1725616800-1728734400@santafeknights.org
SUMMARY:Mass on the Mountain
DESCRIPTION:Mass on the Mountain brings parishioners closer to God! \nThe purpose of the event is for us to pray over the Santa Fe Valley and all New Mexico (from the Lookout at the Santa Fe ski base and you can see the Sandia\, Jemez and the Sangre de Cristo mountains\, Los Alamos\, Espanola\, and Santa Fe. We pray all over New Mexico and the United States of America. \nJust as Abraham\, Isaac\, Moses\, Elijah\, and Jesus all climbed mountains to meet God.\nYou can do the same\, every year 10 AM Second Saturday\, October. \n“Mass on the Mountain” is a beautiful and uplifting experience. “Just as Jesus would climb a mountain to pray\, we are doing the same to keep following His journey in ourselves. Those who have attended the event said they enjoyed being closer to God and nature during the gathering and will be ready to attend another “Mass on the Mountain” next year when it is held. \nThis year the event is SCHEDULED to be at 10 AM October 12\, 2024 at the Lookout at the end of State Road 475\, just before the Santa Fe Ski basin.  \nRemember\, the ski lifts are running this weekend because the aspens are in full color. You can make this an all day event enjoying God’s creation.
URL:https://santafeknights.org/event/mass-on-the-mountain-4/
LOCATION:The Lookout\, Hyde Park Road\, SR 475\, Santa Fe\, NM\, United States
CATEGORIES:Council-wide Event,Nuestra Conquistadora Council 16601,Nuestra Señora De Guadalupe Council 15138,Nuestra Señora Del Rosario Council 10517,San Antonio de Pecos Council 10365,Santa Fe Council 1707,St. John the Baptist Council 13699
ATTACH;FMTTYPE=image/jpeg:https://santafeknights.org/wp-content/uploads/2024/09/2024-Fr-Adrian.jpg
END:VEVENT
END:VCALENDAR