BEGIN:VCALENDAR
VERSION:2.0
PRODID:-//The Santa Fe Knights of Columbus - ECPv6.15.20//NONSGML v1.0//EN
CALSCALE:GREGORIAN
METHOD:PUBLISH
X-WR-CALNAME:The Santa Fe Knights of Columbus
X-ORIGINAL-URL:https://santafeknights.org
X-WR-CALDESC:Events for The Santa Fe Knights of Columbus
REFRESH-INTERVAL;VALUE=DURATION:PT1H
X-Robots-Tag:noindex
X-PUBLISHED-TTL:PT1H
BEGIN:VTIMEZONE
TZID:America/Denver
BEGIN:DAYLIGHT
TZOFFSETFROM:-0700
TZOFFSETTO:-0600
TZNAME:MDT
DTSTART:20190310T090000
END:DAYLIGHT
BEGIN:STANDARD
TZOFFSETFROM:-0600
TZOFFSETTO:-0700
TZNAME:MST
DTSTART:20191103T080000
END:STANDARD
BEGIN:DAYLIGHT
TZOFFSETFROM:-0700
TZOFFSETTO:-0600
TZNAME:MDT
DTSTART:20200308T090000
END:DAYLIGHT
BEGIN:STANDARD
TZOFFSETFROM:-0600
TZOFFSETTO:-0700
TZNAME:MST
DTSTART:20201101T080000
END:STANDARD
BEGIN:DAYLIGHT
TZOFFSETFROM:-0700
TZOFFSETTO:-0600
TZNAME:MDT
DTSTART:20210314T090000
END:DAYLIGHT
BEGIN:STANDARD
TZOFFSETFROM:-0600
TZOFFSETTO:-0700
TZNAME:MST
DTSTART:20211107T080000
END:STANDARD
END:VTIMEZONE
BEGIN:VEVENT
DTSTART;TZID=America/Denver:20201010T100000
DTEND;TZID=America/Denver:20201010T110000
DTSTAMP:20260423T172910
CREATED:20200924T023725Z
LAST-MODIFIED:20200924T024227Z
UID:184-1602324000-1602327600@santafeknights.org
SUMMARY:Mass on the Mountain
DESCRIPTION:Mass on the Mountain\n\n\n\nSaturday October 10\, 2020 \nOctober 10 @ 10:00 am – 11:00 am \nThe Lookout\nHyde Park Road\, SR 475\,\nBetween Aspen Vista and the Santa Fe Ski Basin\nFr. Rob Yaksich Officiating \nPlease Join Us As We Pray Over Santa Fe \nCovid Safe Together\nSponsored by the Knights of Columbus Santa Fe Councils 1707\, 10365\, 10517\, 13699\, 15138\, 15381\, 
URL:https://santafeknights.org/event/mass-on-the-mountain/
LOCATION:NM
CATEGORIES:Council-wide Event
END:VEVENT
BEGIN:VEVENT
DTSTART;VALUE=DATE:20200924
DTEND;VALUE=DATE:20201103
DTSTAMP:20260423T172910
CREATED:20200924T025954Z
LAST-MODIFIED:20200924T030050Z
UID:190-1600905600-1604361599@santafeknights.org
SUMMARY:40 Days For Life
DESCRIPTION:Dear Parishioners\,                                                                                          September 20\, 2020  \nOn Thursday September 24th we will begin a prayer marathon that will last 40 days. It will go on till the day before the election ending on November 2. The focus of these 40 days is to pray for our Nation and to pray for the end of abortion\, which the U.S. Catholic Bishops Conference (USCCB) and singled out as the Preeminent issue facing Catholic Voters. “The threat of abortion remains our preeminent priority because it directly attacks life itself\, because it takes place within the sanctuary of the family\, and because of the number of lives destroyed\,”(USCCB) Meaning that it is an issue that should be reconsider more urgent than the others.  \nStarting Thursday September 24th 5:00 pm\, and every afternoon till November 2\, we will gather in the church and dedicate a half hour of prayer that will include praying the most holy rosary for the unborn and for our Nation. I invite you to join us at the church or at home with your family. \nWith Christ’s love and Peace                                                                                                                  \nRev. Larry R. Brito \nNM State Chaplin
URL:https://santafeknights.org/event/40-days-for-life/
LOCATION:Saint Anne’s Catholic Church\, 511 Alicia St.\, Santa Fe\, NM\, 87501\, United States
CATEGORIES:Council-wide Event
END:VEVENT
END:VCALENDAR