BEGIN:VCALENDAR
VERSION:2.0
PRODID:-//The Santa Fe Knights of Columbus - ECPv6.15.20//NONSGML v1.0//EN
CALSCALE:GREGORIAN
METHOD:PUBLISH
X-ORIGINAL-URL:https://santafeknights.org
X-WR-CALDESC:Events for The Santa Fe Knights of Columbus
REFRESH-INTERVAL;VALUE=DURATION:PT1H
X-Robots-Tag:noindex
X-PUBLISHED-TTL:PT1H
BEGIN:VTIMEZONE
TZID:America/Denver
BEGIN:DAYLIGHT
TZOFFSETFROM:-0700
TZOFFSETTO:-0600
TZNAME:MDT
DTSTART:20250309T090000
END:DAYLIGHT
BEGIN:STANDARD
TZOFFSETFROM:-0600
TZOFFSETTO:-0700
TZNAME:MST
DTSTART:20251102T080000
END:STANDARD
BEGIN:DAYLIGHT
TZOFFSETFROM:-0700
TZOFFSETTO:-0600
TZNAME:MDT
DTSTART:20260308T090000
END:DAYLIGHT
BEGIN:STANDARD
TZOFFSETFROM:-0600
TZOFFSETTO:-0700
TZNAME:MST
DTSTART:20261101T080000
END:STANDARD
BEGIN:DAYLIGHT
TZOFFSETFROM:-0700
TZOFFSETTO:-0600
TZNAME:MDT
DTSTART:20270314T090000
END:DAYLIGHT
BEGIN:STANDARD
TZOFFSETFROM:-0600
TZOFFSETTO:-0700
TZNAME:MST
DTSTART:20271107T080000
END:STANDARD
END:VTIMEZONE
BEGIN:VEVENT
DTSTART;VALUE=DATE:20260321
DTEND;VALUE=DATE:20260324
DTSTAMP:20260423T175049
CREATED:20260202T170923Z
LAST-MODIFIED:20260206T044226Z
UID:2095-1774051200-1774310399@santafeknights.org
SUMMARY:St. Joseph Altar at Santa Maria de la Paz Catholic Community
DESCRIPTION:Last Year’s Altar was a great success!\nWe would like this year’s Altar to be even more successful.\nPlease join us!\nPlease inform your friends and relatives from our parish about this event. If they can’t help with the organizing process we can use their help in providing items to decorate the altar.\nStatues of St. Joseph (San José) are especially welcomed as are statues of the Holy Family\, Mother Mary and Jesus. At this time we also honor our deceased family and friends so photographs of deceased ones are also welcomed. Be sure to mark those items you want returned. As St. Joseph was a carpenter\, items used in carpentry are welcomed\, especially if they are constructed from baked bread such as hammers\, saws\, ladders\, nails\, and then crosses\, sandals\, fish\, etc.\nDrop them off at the parish the week of March 19. \nA basket for donations for our SMDLP Food Pantry run by Bernadette Bach will be on the altar as will a basket for intentions. \nFresh food such as bright raw peppers (Chile peppers too)\, oranges\, grapes\, artichokes\, fennel\, onions\, garlic\, apples and pears are traditionally found on the altar as is a bowl of dried fava beans. Lillies and palms typically are used to decorate the altar. \nWe will hope everyone will contribute to our potluck on March 21 after the 5pm Mass. Remember\, it is the Lenten Season. \nThere will be 300 packets ready with a St. Joseph medal\, a St. Joseph prayer card and three fava beans (first come\, first served).\nThere will also be a jar of fava beans on the altar too. You can’t forget the fava beans! \nSchedule for our Altar\nThe tentative dates are:\nBefore March 17 (TBD) Assemble prayer packets with three Fava Beans\, A St. Joseph Medal and a St. Joseph Prayer Card\nMarch 17-18 Set Up The Altar (Decorate the altar with food\, bread in the shape of St. Joseph tools and religious items)\nMarch 19-22 Altar is up for all Masses\nMarch 21 Altar is blessed as is Prayer Packets and Potluck after 5pm Mass\nMarch 23-24 Altar is taken down \nCan use help:\nDecorating the altar\nReceiving potluck dishes before and during Mass\nSetting up tables outside the kitchen for the potluck\nHelping serve during the potluck\nHelping to clean up after the potluck\nBreaking down the altar \nPeace\, Blessings and Viva San José!
URL:https://santafeknights.org/event/st-joseph-altar-at-santa-maria-de-la-paz-catholic-community/
LOCATION:Santa Maria de la Paz\, 11 College Ave.\, Santa Fe\, NM\, 87508\, United States
CATEGORIES:Council-wide Event,Nuestra Conquistadora Council 16601,Nuestra Señora De Guadalupe Council 15138,Nuestra Señora Del Rosario Council 10517,San Antonio de Pecos Council 10365,Santa Fe Assembly 685,Santa Fe Council 1707
ATTACH;FMTTYPE=image/jpeg:https://santafeknights.org/wp-content/uploads/2026/02/St.-Joseph-altar-2026-copy-scaled.jpg
END:VEVENT
END:VCALENDAR