BEGIN:VCALENDAR
VERSION:2.0
PRODID:-//The Santa Fe Knights of Columbus - ECPv6.15.20//NONSGML v1.0//EN
CALSCALE:GREGORIAN
METHOD:PUBLISH
X-ORIGINAL-URL:https://santafeknights.org
X-WR-CALDESC:Events for The Santa Fe Knights of Columbus
REFRESH-INTERVAL;VALUE=DURATION:PT1H
X-Robots-Tag:noindex
X-PUBLISHED-TTL:PT1H
BEGIN:VTIMEZONE
TZID:America/Denver
BEGIN:DAYLIGHT
TZOFFSETFROM:-0700
TZOFFSETTO:-0600
TZNAME:MDT
DTSTART:20240310T090000
END:DAYLIGHT
BEGIN:STANDARD
TZOFFSETFROM:-0600
TZOFFSETTO:-0700
TZNAME:MST
DTSTART:20241103T080000
END:STANDARD
BEGIN:DAYLIGHT
TZOFFSETFROM:-0700
TZOFFSETTO:-0600
TZNAME:MDT
DTSTART:20250309T090000
END:DAYLIGHT
BEGIN:STANDARD
TZOFFSETFROM:-0600
TZOFFSETTO:-0700
TZNAME:MST
DTSTART:20251102T080000
END:STANDARD
BEGIN:DAYLIGHT
TZOFFSETFROM:-0700
TZOFFSETTO:-0600
TZNAME:MDT
DTSTART:20260308T090000
END:DAYLIGHT
BEGIN:STANDARD
TZOFFSETFROM:-0600
TZOFFSETTO:-0700
TZNAME:MST
DTSTART:20261101T080000
END:STANDARD
END:VTIMEZONE
BEGIN:VEVENT
DTSTART;VALUE=DATE:20250614
DTEND;VALUE=DATE:20250615
DTSTAMP:20260425T101708
CREATED:20250602T122031Z
LAST-MODIFIED:20250602T122031Z
UID:1841-1749859200-1749945599@santafeknights.org
SUMMARY:Flag Day (pass out Flags)
DESCRIPTION:June 14th Flag Day (pass out Flags)
URL:https://santafeknights.org/event/flag-day-pass-out-flags/
LOCATION:Santa Fe\, New Mexico\, Santa Fe\, 87501\, United States
CATEGORIES:Council-wide Event,Santa Fe Assembly 685
ORGANIZER;CN="Michael Specht":MAILTO:nmkofcdd9@gmail.com
END:VEVENT
BEGIN:VEVENT
DTSTART;TZID=America/Denver:20250614T090000
DTEND;TZID=America/Denver:20250614T110000
DTSTAMP:20260425T101708
CREATED:20250602T122142Z
LAST-MODIFIED:20250602T122142Z
UID:1844-1749891600-1749898800@santafeknights.org
SUMMARY:Permanent Diaconate Ordination
DESCRIPTION:June 14th Permanent Diaconate Ordination – Cathedral Basilica of St. Francis of Assisi 9 AM- 11 AM
URL:https://santafeknights.org/event/permanent-diaconate-ordination/
LOCATION:Cathedral Basilica of St. Francis of Assisi\, 131 Cathedral Place\, Santa Fe\, NM\, 87501\, United States
CATEGORIES:Council-wide Event,Santa Fe Assembly 685
ORGANIZER;CN="Michael Specht":MAILTO:nmkofcdd9@gmail.com
END:VEVENT
END:VCALENDAR