BEGIN:VCALENDAR
VERSION:2.0
PRODID:-//The Santa Fe Knights of Columbus - ECPv6.15.20//NONSGML v1.0//EN
CALSCALE:GREGORIAN
METHOD:PUBLISH
X-WR-CALNAME:The Santa Fe Knights of Columbus
X-ORIGINAL-URL:https://santafeknights.org
X-WR-CALDESC:Events for The Santa Fe Knights of Columbus
REFRESH-INTERVAL;VALUE=DURATION:PT1H
X-Robots-Tag:noindex
X-PUBLISHED-TTL:PT1H
BEGIN:VTIMEZONE
TZID:America/Denver
BEGIN:DAYLIGHT
TZOFFSETFROM:-0700
TZOFFSETTO:-0600
TZNAME:MDT
DTSTART:20250309T090000
END:DAYLIGHT
BEGIN:STANDARD
TZOFFSETFROM:-0600
TZOFFSETTO:-0700
TZNAME:MST
DTSTART:20251102T080000
END:STANDARD
BEGIN:DAYLIGHT
TZOFFSETFROM:-0700
TZOFFSETTO:-0600
TZNAME:MDT
DTSTART:20260308T090000
END:DAYLIGHT
BEGIN:STANDARD
TZOFFSETFROM:-0600
TZOFFSETTO:-0700
TZNAME:MST
DTSTART:20261101T080000
END:STANDARD
BEGIN:DAYLIGHT
TZOFFSETFROM:-0700
TZOFFSETTO:-0600
TZNAME:MDT
DTSTART:20270314T090000
END:DAYLIGHT
BEGIN:STANDARD
TZOFFSETFROM:-0600
TZOFFSETTO:-0700
TZNAME:MST
DTSTART:20271107T080000
END:STANDARD
END:VTIMEZONE
BEGIN:VEVENT
DTSTART;VALUE=DATE:20260425
DTEND;VALUE=DATE:20260427
DTSTAMP:20260423T065842
CREATED:20260414T170250Z
LAST-MODIFIED:20260414T170250Z
UID:2139-1777075200-1777247999@santafeknights.org
SUMMARY:Spring Mudding of the Capilla de San Pedro
DESCRIPTION:Saturday & Sunday \nApril 25-26\, 2026 \n8:00am to ??? \nBring clothes you’re willing to get mud on\, a great attitude and a hearty appetite!
URL:https://santafeknights.org/event/spring-mudding-of-the-capilla-de-san-pedro/
LOCATION:Capilla de San Pedro\, St Peter's Chapel (San Pedro)\, Ohkay Owingeh\, NM 87566\, Ohkay Owingeh\, NM 87566\, NM\, 87566\, United States
END:VEVENT
END:VCALENDAR